BEGIN:VCALENDAR
VERSION:2.0
PRODID:-//BWHCCW.org - ECPv6.15.20//NONSGML v1.0//EN
CALSCALE:GREGORIAN
METHOD:PUBLISH
X-ORIGINAL-URL:http://bwhccw.org
X-WR-CALDESC:Events for BWHCCW.org
REFRESH-INTERVAL;VALUE=DURATION:PT1H
X-Robots-Tag:noindex
X-PUBLISHED-TTL:PT1H
BEGIN:VTIMEZONE
TZID:America/New_York
BEGIN:DAYLIGHT
TZOFFSETFROM:-0500
TZOFFSETTO:-0400
TZNAME:EDT
DTSTART:20240310T070000
END:DAYLIGHT
BEGIN:STANDARD
TZOFFSETFROM:-0400
TZOFFSETTO:-0500
TZNAME:EST
DTSTART:20241103T060000
END:STANDARD
BEGIN:DAYLIGHT
TZOFFSETFROM:-0500
TZOFFSETTO:-0400
TZNAME:EDT
DTSTART:20250309T070000
END:DAYLIGHT
BEGIN:STANDARD
TZOFFSETFROM:-0400
TZOFFSETTO:-0500
TZNAME:EST
DTSTART:20251102T060000
END:STANDARD
BEGIN:DAYLIGHT
TZOFFSETFROM:-0500
TZOFFSETTO:-0400
TZNAME:EDT
DTSTART:20260308T070000
END:DAYLIGHT
BEGIN:STANDARD
TZOFFSETFROM:-0400
TZOFFSETTO:-0500
TZNAME:EST
DTSTART:20261101T060000
END:STANDARD
END:VTIMEZONE
BEGIN:VEVENT
DTSTART;TZID=America/New_York:20250424T090000
DTEND;TZID=America/New_York:20250424T150000
DTSTAMP:20260420T220944
CREATED:20250217T185106Z
LAST-MODIFIED:20250217T185106Z
UID:9669-1745485200-1745506800@bwhccw.org
SUMMARY:Glory to Glory Symposium 2025
DESCRIPTION:Save the Date for the Second Annual Glory to Glory Symposium\nChampioning Justice: Advancing Health Equity\, Economic Mobility and Mental Health in 2025 \nThursday\, April 24\, 2025 | 9am – 3pm | UMass Boston Campus Center Ballroom \n\n \nKeynote speaker:  \nDr. Arline T. Geronimus\,\nauthor of “Weathering: The Extraordinary Stress of Ordinary Life in an Unjust Society” \n\nPanel Discussions: \n\nHealth Care Challenges and Successes in Boston: What’s Next?\nPathways to Economic Independence\nMental Health Challenges for Students in 2025\n\nCO-HOSTED BY MASS GENERAL BRIGHAM CENTER FOR COMMUNITY WELLNESS\, SPORTSMEN’S TENNIS & ENRICHMENT CENTER and UMASS BOSTON \n \n 
URL:http://bwhccw.org/event/glory-to-glory-symposium-2025/
LOCATION:UMass Boston\, United States
CATEGORIES:Community Events
ATTACH;FMTTYPE=image/png:http://bwhccw.org/wp-content/uploads/2025/02/2025-Glory-to-Glory-Event.png
ORGANIZER;CN="Sportmen's Tennis & Enrichment Center":MAILTO:glorytoglory@sportsmenstennis.org
END:VEVENT
END:VCALENDAR